BEGIN:VCALENDAR
VERSION:2.0
PRODID:-//Perry Highway Lutheran Church - ECPv6.15.17.1//NONSGML v1.0//EN
CALSCALE:GREGORIAN
METHOD:PUBLISH
X-WR-CALNAME:Perry Highway Lutheran Church
X-ORIGINAL-URL:https://phlc.org
X-WR-CALDESC:Events for Perry Highway Lutheran Church
REFRESH-INTERVAL;VALUE=DURATION:PT1H
X-Robots-Tag:noindex
X-PUBLISHED-TTL:PT1H
BEGIN:VTIMEZONE
TZID:America/New_York
BEGIN:DAYLIGHT
TZOFFSETFROM:-0500
TZOFFSETTO:-0400
TZNAME:EDT
DTSTART:20250309T070000
END:DAYLIGHT
BEGIN:STANDARD
TZOFFSETFROM:-0400
TZOFFSETTO:-0500
TZNAME:EST
DTSTART:20251102T060000
END:STANDARD
BEGIN:DAYLIGHT
TZOFFSETFROM:-0500
TZOFFSETTO:-0400
TZNAME:EDT
DTSTART:20260308T070000
END:DAYLIGHT
BEGIN:STANDARD
TZOFFSETFROM:-0400
TZOFFSETTO:-0500
TZNAME:EST
DTSTART:20261101T060000
END:STANDARD
BEGIN:DAYLIGHT
TZOFFSETFROM:-0500
TZOFFSETTO:-0400
TZNAME:EDT
DTSTART:20270314T070000
END:DAYLIGHT
BEGIN:STANDARD
TZOFFSETFROM:-0400
TZOFFSETTO:-0500
TZNAME:EST
DTSTART:20271107T060000
END:STANDARD
END:VTIMEZONE
BEGIN:VEVENT
DTSTART;TZID=America/New_York:20260131T190000
DTEND;TZID=America/New_York:20260131T220000
DTSTAMP:20260419T170757
CREATED:20260117T204044Z
LAST-MODIFIED:20260120T201811Z
UID:10000525-1769886000-1769896800@phlc.org
SUMMARY:Queer Ballroom Dance
DESCRIPTION:Queer Ballroom Dance\nJoin us on Saturday\, January 31\, 2026\, from 7:00–10:00 pm for a joyful and affirming evening at PHLC as we host a Queer Ballroom Dance. This special event is a celebration of self-expression\, community\, and connection\, welcoming people of all identities\, orientations\, and levels of dance experience. \nQueer Ballroom reimagines traditional partner dancing in a space that is inclusive\, welcoming\, and free from rigid gender roles. Participants are encouraged to dance in the role that feels most authentic to them\, switch roles if they wish\, or simply enjoy the music and movement. Whether you’re an experienced dancer or have two left feet\, this event is about fun\, freedom\, and being fully yourself. \nThroughout the evening\, you’ll have opportunities to learn basic ballroom steps in a relaxed and supportive environment\, making it easy for beginners to jump in and enjoy the dance floor. Laughter\, music\, and shared joy will set the tone as we come together to celebrate diversity and build community through movement. \nThis event reflects PHLC’s commitment to inclusion\, hospitality\, and creating spaces where everyone feels safe\, seen\, and valued. Come with a partner\, bring a friend\, or arrive on your own—you’ll be welcomed just as you are. Comfortable clothing and shoes you can move in are recommended. \nIn a world that often places limits on how people are expected to show up\, Queer Ballroom offers a refreshing and empowering alternative: a place where everyone belongs. Mark your calendar and join us on January 31 from 7:00–10:00 pm for an evening of dance\, connection\, and celebration. We can’t wait to see you on the dance floor!
URL:https://phlc.org/event/queer-ballroom-dance/
LOCATION:PA
CATEGORIES:PHLC
ATTACH;FMTTYPE=image/jpeg:https://phlc.org/wp-content/uploads/2026/01/RainbowBackgroundRibbon-scaled.jpeg
END:VEVENT
BEGIN:VEVENT
DTSTART;TZID=America/New_York:20260125T093000
DTEND;TZID=America/New_York:20260125T103000
DTSTAMP:20260419T170757
CREATED:20251223T151614Z
LAST-MODIFIED:20260124T010918Z
UID:10000521-1769333400-1769337000@phlc.org
SUMMARY:Worship Service - Virtual Only
DESCRIPTION:Due to Weather\, this service will be virtual only on our Facebook page.\nA New Way to Follow\nNations wage war\, gangs battle each other\, families quarrel\, communities of faith divide. We hear others say and even hear ourselves saying\, “There is no other way.” \nIn Jesus\, the light of Gods kingdom draws near and a new way shines for us to follow. \nIn today’s gospel\, Jesus first withdraws (Matt. 4:12). The word anachoreo (to withdraw) is used ten times in Matthew’s gospel—each time as Jesus’ response to violence or conflict. John the Baptist has been arrested\, and tension is beginning to build. The way of God and the way of the world’s rulers are beginning to collide. \nIn Jesus\, a new kingdom has drawn near\, a kingdom of nonviolence and non-retaliation. Jesus’ withdrawal is not simply passivity but points to a vision of an alternate way of reigning as king. Jesus rules not with violence\, abusive power\, or through division but through voluntarily emptying himself of power\, identifying with the oppressed and burdened\, and healing that which is broken. Into this new reign\, Jesus calls the disciples to follow him\, a way that appears foolish and weak to those who cannot discern it. To those God calls\, it is the wisdom and strength\, the light and power of God. \nTo follow in the way of Jesus places one’s life at risk\, for it eventually leads to the cross. To follow\, though\, implies someone is leading. The way God calls us to follow has already been filled with the loving kindness and mercy of Jesus who has gone before us and who leads us to the foot of the cross. There\, in the shadow of the cross\, God makes a way for unity in the midst of division\, for healing in the midst of brokenness\, for peace in the midst of violence\, for forgiveness in the midst of betrayal. Around the table\, the kingdom of God draws near; Jesus’ broken body announces forgiveness\, healing\, peace\, and unity. Many bodies are nourished and formed into the one body of Christ\, called and sent to follow in the way of Jesus\, to be broken and shed for the sake of the world. \n~From Sundays & Seasons 
URL:https://phlc.org/event/worship-service-18/
LOCATION:Sanctuary\, 11403 Perry Highway\, Wexford\, PA\, United States
CATEGORIES:PHLC
ATTACH;FMTTYPE=image/jpeg:https://phlc.org/wp-content/uploads/2024/02/SanctuaryAltarEphiphany-e1705682639573.jpg
END:VEVENT
BEGIN:VEVENT
DTSTART;TZID=America/New_York:20260124T190000
DTEND;TZID=America/New_York:20260124T210000
DTSTAMP:20260419T170757
CREATED:20260117T201136Z
LAST-MODIFIED:20260124T010804Z
UID:10000522-1769281200-1769288400@phlc.org
SUMMARY:CANCELLED! Film Club Views "The Truman Show"
DESCRIPTION:Film Club Event\nDue to weather\, this event is cancelled and will be rescheduled.  \nPHLC invites you to join us on Saturday\, January 24 at 7:00 pm for an engaging evening with our Film Club\, featuring a screening of The Truman Show. This thought-provoking and imaginative film stars Jim Carrey in a memorable dramatic role and explores powerful themes of identity\, freedom\, truth\, and what it means to live an authentic life. \nAt first glance\, The Truman Show appears lighthearted and humorous\, but as the story unfolds it raises deeper questions about control\, community\, and the ways our lives are shaped by forces we may not always recognize. Truman Burbank’s journey invites viewers to reflect on their own experiences: How do we define reality? What does it take to step beyond fear and the expectations placed upon us? Where do we find the courage to seek truth\, even when it feels uncomfortable? \nOur Film Club gatherings are designed to be welcoming\, relaxed\, and meaningful. Following the viewing\, we’ll share insights\, ask questions\, and explore the film’s themes together. You don’t need to be a film expert to participate—just bring your curiosity and willingness to listen and reflect. These discussions often connect the movie’s messages to faith\, daily life\, and our shared human experiences. \nWhether you’ve seen The Truman Show before or are discovering it for the first time\, this evening promises laughter\, reflection\, and thoughtful conversation. Friends\, family members\, and newcomers are always welcome\, so feel free to invite someone to join you. \nCome enjoy a movie night with purpose\, connection\, and conversation at PHLC. We look forward to seeing you on January 24 at 7:00 pm!
URL:https://phlc.org/event/film-club-views-the-truman-show/
LOCATION:PA
CATEGORIES:PHLC
ATTACH;FMTTYPE=image/jpeg:https://phlc.org/wp-content/uploads/2025/11/FilmClub.jpg
END:VEVENT
END:VCALENDAR